BEGIN:VCALENDAR
VERSION:2.0
PRODID:-//wp-events-plugin.com//7.2.3.1//EN
TZID:America/New_York
X-WR-TIMEZONE:America/New_York
BEGIN:VEVENT
UID:0-25@aspiringknight.com
DTSTART;TZID=America/New_York;VALUE=DATE:20240720
DTEND;TZID=America/New_York;VALUE=DATE:20240729
DTSTAMP:20240302T041216Z
URL:https://aspiringknight.com/events/2024-maine-renaissance-faire/
SUMMARY:2024 Maine Renaissance Faire
DESCRIPTION:Brian will be joining the Brotherhood of the Arrow and Sword at
  the Maine Renaissance Faire.\n\n&nbsp\;
CATEGORIES:Public Events,Renaissance Faires
LOCATION:Acton Fairgrounds\, 550 ME-109\, Acton\, ME\, 04001\, United State
 s
GEO:43.513618;-70.871778
X-APPLE-STRUCTURED-LOCATION;VALUE=URI;X-ADDRESS=550 ME-109\, Acton\, ME\, 0
 4001\, United States;X-APPLE-RADIUS=100;X-TITLE=Acton Fairgrounds:geo:43.5
 13618,-70.871778
END:VEVENT
BEGIN:VTIMEZONE
TZID:America/New_York
X-LIC-LOCATION:America/New_York
BEGIN:DAYLIGHT
DTSTART:20240310T030000
TZOFFSETFROM:-0500
TZOFFSETTO:-0400
TZNAME:EDT
END:DAYLIGHT
END:VTIMEZONE
END:VCALENDAR