BEGIN:VCALENDAR
VERSION:2.0
PRODID:-//wp-events-plugin.com//7.2.3.1//EN
TZID:America/New_York
X-WR-TIMEZONE:America/New_York
BEGIN:VEVENT
UID:0-26@aspiringknight.com
DTSTART;TZID=America/New_York:20240921T100000
DTEND;TZID=America/New_York:20240922T180000
DTSTAMP:20240302T041457Z
URL:https://aspiringknight.com/events/2024-vermont-living-history-expo/
SUMMARY:2024 Vermont Living History Expo
DESCRIPTION:Brian will be joining the Brotherhood of the Arrow and Sword fo
 r the 2024 Vermont Living History Expo.
CATEGORIES:Public Events,Renaissance Faires
LOCATION:Champlain Valley Exposition\, 105 Pearl St.\, Essex Junction\, VT\
 , 05452\, United States
GEO:44.496286;-73.121885
X-APPLE-STRUCTURED-LOCATION;VALUE=URI;X-ADDRESS=105 Pearl St.\, Essex Junct
 ion\, VT\, 05452\, United States;X-APPLE-RADIUS=100;X-TITLE=Champlain Vall
 ey Exposition:geo:44.496286,-73.121885
END:VEVENT
BEGIN:VTIMEZONE
TZID:America/New_York
X-LIC-LOCATION:America/New_York
BEGIN:DAYLIGHT
DTSTART:20240310T030000
TZOFFSETFROM:-0500
TZOFFSETTO:-0400
TZNAME:EDT
END:DAYLIGHT
END:VTIMEZONE
END:VCALENDAR