BEGIN:VCALENDAR
VERSION:2.0
PRODID:-//wp-events-plugin.com//7.2.3.1//EN
TZID:America/New_York
X-WR-TIMEZONE:America/New_York
BEGIN:VEVENT
UID:0-30@aspiringknight.com
DTSTART;TZID=America/New_York;VALUE=DATE:20250510
DTEND;TZID=America/New_York;VALUE=DATE:20250519
DTSTAMP:20241230T212218Z
URL:https://aspiringknight.com/events/2025-nh-renaissance-faire/
SUMMARY:2025 NH Renaissance Faire
DESCRIPTION:Brian will be presenting with the Brotherhood of the Arrow and 
 Sword at the 2025 NH Renaissance Faire.\n\nTickets and info available at t
 he NHRF official website.
ATTACH;FMTTYPE=image/jpeg:https://aspiringknight.com/wp-content/uploads/si
 tes/4/278421448_2317296491905049_9157883281603907692_n.png
CATEGORIES:Brotherhood of the Arrow and Sword,Fundraiser,Public
 Events,Renaissance Faires
LOCATION:New Hampshire Renaissance Faire\, 80 Martin Rd.\, Fremont\, NH\, 0
 3044\, New England\, United States
GEO:43.015384;-71.085350
X-APPLE-STRUCTURED-LOCATION;VALUE=URI;X-ADDRESS=80 Martin Rd.\, Fremont\, N
 H\, 03044\, New England\, United States;X-APPLE-RADIUS=100;X-TITLE=New Ham
 pshire Renaissance Faire:geo:43.015384,-71.085350
END:VEVENT
BEGIN:VTIMEZONE
TZID:America/New_York
X-LIC-LOCATION:America/New_York
BEGIN:DAYLIGHT
DTSTART:20250309T030000
TZOFFSETFROM:-0500
TZOFFSETTO:-0400
TZNAME:EDT
END:DAYLIGHT
END:VTIMEZONE
END:VCALENDAR