BEGIN:VCALENDAR
VERSION:2.0
PRODID:-//wp-events-plugin.com//7.2.3.1//EN
TZID:America/New_York
X-WR-TIMEZONE:America/New_York
BEGIN:VEVENT
UID:0-31@aspiringknight.com
DTSTART;TZID=America/New_York;VALUE=DATE:20250621
DTEND;TZID=America/New_York;VALUE=DATE:20250623
DTSTAMP:20241230T212807Z
URL:https://aspiringknight.com/events/2025-vermont-renaissance-faire/
SUMMARY:2025 Vermont Renaissance Faire
DESCRIPTION:Brian will be encamped with the Brotherhood of the Arrow and Sw
 ord at the 2025 Vermont Renaissance Faire.\n\n&nbsp\;\n\nTickets and more 
 information available at the official VTRF website.
ATTACH;FMTTYPE=image/jpeg:https://aspiringknight.com/wp-content/uploads/si
 tes/4/450457345_994382852691097_9165965179019048265_n.jpg
CATEGORIES:Brotherhood of the Arrow and Sword,Renaissance Faires,Wolfe
 Argent
LOCATION:Champlain Valley Exposition\, 105 Pearl St.\, Essex Junction\, VT\
 , 05452\, United States
GEO:44.496286;-73.121885
X-APPLE-STRUCTURED-LOCATION;VALUE=URI;X-ADDRESS=105 Pearl St.\, Essex Junct
 ion\, VT\, 05452\, United States;X-APPLE-RADIUS=100;X-TITLE=Champlain Vall
 ey Exposition:geo:44.496286,-73.121885
END:VEVENT
BEGIN:VTIMEZONE
TZID:America/New_York
X-LIC-LOCATION:America/New_York
BEGIN:DAYLIGHT
DTSTART:20250309T030000
TZOFFSETFROM:-0500
TZOFFSETTO:-0400
TZNAME:EDT
END:DAYLIGHT
END:VTIMEZONE
END:VCALENDAR