BEGIN:VCALENDAR
VERSION:2.0
PRODID:-//wp-events-plugin.com//7.2.3.1//EN
TZID:America/New_York
X-WR-TIMEZONE:America/New_York
BEGIN:VEVENT
UID:0-9@aspiringknight.com
DTSTART;TZID=America/New_York;VALUE=DATE:20220714
DTEND;TZID=America/New_York;VALUE=DATE:20220718
DTSTAMP:20220616T183924Z
URL:https://aspiringknight.com/events/great-northeastern-war-xxxiv/
SUMMARY:Great Northeastern War XXXIV
DESCRIPTION:Brian plans to attend the 34th Great Northeastern War (an SCA e
 vent). Look for him at the Deed of Arms.\n\n&nbsp\;
CATEGORIES:Private Events,SCA
LOCATION:Hebron Pines RV and Golf\, 400 Buckfield Rd\, Hebron\, Maine\, 042
 38\, United States
GEO:44.201760;-70.353305
X-APPLE-STRUCTURED-LOCATION;VALUE=URI;X-ADDRESS=400 Buckfield Rd\, Hebron\,
  Maine\, 04238\, United States;X-APPLE-RADIUS=100;X-TITLE=Hebron Pines RV 
 and Golf:geo:44.201760,-70.353305
END:VEVENT
BEGIN:VTIMEZONE
TZID:America/New_York
X-LIC-LOCATION:America/New_York
BEGIN:DAYLIGHT
DTSTART:20220313T030000
TZOFFSETFROM:-0500
TZOFFSETTO:-0400
TZNAME:EDT
END:DAYLIGHT
END:VTIMEZONE
END:VCALENDAR