BEGIN:VCALENDAR
VERSION:2.0
PRODID:-//wp-events-plugin.com//7.2.3.1//EN
TZID:America/New_York
X-WR-TIMEZONE:America/New_York
BEGIN:VEVENT
UID:0-6@aspiringknight.com
DTSTART;TZID=America/New_York;VALUE=DATE:20220730
DTEND;TZID=America/New_York;VALUE=DATE:20220801
DTSTAMP:20220616T182330Z
URL:https://aspiringknight.com/events/maine-renaissance-faire-2022-second-
 weekend/
SUMMARY:Maine Renaissance Faire - 2022 Second Weekend
DESCRIPTION:Brian will be fighting at the Maine Renaissance Faire with the 
 Brotherhood of the Arrow and Sword.\n\n&nbsp\;\n\nInfo and more at https:/
 /themainerenfaire.com/ \n\n
CATEGORIES:Public Events,Renaissance Faires
LOCATION:Maine Renaissance Faire\, 550 ME-109\, Acton\, Maine\, 04001\, Uni
 ted States
GEO:43.513618;-70.871778
X-APPLE-STRUCTURED-LOCATION;VALUE=URI;X-ADDRESS=550 ME-109\, Acton\, Maine\
 , 04001\, United States;X-APPLE-RADIUS=100;X-TITLE=Maine Renaissance Faire
 :geo:43.513618,-70.871778
END:VEVENT
BEGIN:VTIMEZONE
TZID:America/New_York
X-LIC-LOCATION:America/New_York
BEGIN:DAYLIGHT
DTSTART:20220313T030000
TZOFFSETFROM:-0500
TZOFFSETTO:-0400
TZNAME:EDT
END:DAYLIGHT
END:VTIMEZONE
END:VCALENDAR