BEGIN:VCALENDAR
VERSION:2.0
PRODID:-//wp-events-plugin.com//7.2.3.1//EN
TZID:America/New_York
X-WR-TIMEZONE:America/New_York
BEGIN:VEVENT
UID:0-24@aspiringknight.com
DTSTART;TZID=America/New_York:20240726T090000
DTEND;TZID=America/New_York:20240811T120000
DTSTAMP:20240302T040458Z
URL:https://aspiringknight.com/events/pennsic-51/
SUMMARY:Pennsic 51
DESCRIPTION:Brian plans to be the marshal in charge of armored steel combat
  at Pennsic 51 (SCA).\n\n&nbsp\;\n\nMore info on the event can be found he
 re.
CATEGORIES:SCA
LOCATION:Pennsic at Coopers Lake Campground\, 205 Curry Rd.\, Slippery Rock
 \, Pennsylvania\, 16057\, United States
GEO:40.975667;-80.137681
X-APPLE-STRUCTURED-LOCATION;VALUE=URI;X-ADDRESS=205 Curry Rd.\, Slippery Ro
 ck\, Pennsylvania\, 16057\, United States;X-APPLE-RADIUS=100;X-TITLE=Penns
 ic at Coopers Lake Campground:geo:40.975667,-80.137681
END:VEVENT
BEGIN:VTIMEZONE
TZID:America/New_York
X-LIC-LOCATION:America/New_York
BEGIN:DAYLIGHT
DTSTART:20240310T030000
TZOFFSETFROM:-0500
TZOFFSETTO:-0400
TZNAME:EDT
END:DAYLIGHT
END:VTIMEZONE
END:VCALENDAR