BEGIN:VCALENDAR
VERSION:2.0
PRODID:-//wp-events-plugin.com//7.2.3.1//EN
TZID:America/New_York
X-WR-TIMEZONE:America/New_York
BEGIN:VEVENT
UID:0-33@aspiringknight.com
DTSTART;TZID=America/New_York;VALUE=DATE:20250725
DTEND;TZID=America/New_York;VALUE=DATE:20250811
DTSTAMP:20241230T215915Z
URL:https://aspiringknight.com/events/pennsic-war-52/
SUMMARY:Pennsic War 52
DESCRIPTION:Brian will be the Marshal in charge of Armored Combat with Reba
 ted Steel Weapons at the 52nd Pennsic War.  He will also be the Marshal I
 n Charge for the SCA's Harnischfechten Experiment at the event.\n\nHe will
  be driving down\, Sunday night\, July 27th\, following the end of the sec
 ond weekend of the Maine Renaissance Faire.\n\nClick here for the SCA's of
 ficial website. \n\nClick here for the official Pennsic War website. \n\
 nNew to the SCA? Start HERE.
ATTACH;FMTTYPE=image/jpeg:https://aspiringknight.com/wp-content/uploads/si
 tes/4/pennsicaerial.jpg
CATEGORIES:Private Events,SCA
LOCATION:Pennsic at Coopers Lake Campground\, 205 Curry Rd.\, Slippery Rock
 \, Pennsylvania\, 16057\, United States
GEO:40.975667;-80.137681
X-APPLE-STRUCTURED-LOCATION;VALUE=URI;X-ADDRESS=205 Curry Rd.\, Slippery Ro
 ck\, Pennsylvania\, 16057\, United States;X-APPLE-RADIUS=100;X-TITLE=Penns
 ic at Coopers Lake Campground:geo:40.975667,-80.137681
END:VEVENT
BEGIN:VTIMEZONE
TZID:America/New_York
X-LIC-LOCATION:America/New_York
BEGIN:DAYLIGHT
DTSTART:20250309T030000
TZOFFSETFROM:-0500
TZOFFSETTO:-0400
TZNAME:EDT
END:DAYLIGHT
END:VTIMEZONE
END:VCALENDAR