BEGIN:VCALENDAR
VERSION:2.0
PRODID:-//wp-events-plugin.com//7.2.3.1//EN
TZID:America/New_York
X-WR-TIMEZONE:America/New_York
BEGIN:VEVENT
UID:0-7@aspiringknight.com
DTSTART;TZID=America/New_York;VALUE=DATE:20220801
DTEND;TZID=America/New_York;VALUE=DATE:20220815
DTSTAMP:20220616T182902Z
URL:https://aspiringknight.com/events/pennsic/
SUMMARY:Pennsic
DESCRIPTION:Brian will be at Pennsic 49.  If you're there\, you can usuall
 y find him at the Steel Fighting area or encamped with Clann O'Choda in E2
 .
CATEGORIES:Private Events
LOCATION:Pennsic at Coopers Lake Campground\, 205 Curry Rd.\, Slippery Rock
 \, Pennsylvania\, 16057\, United States
GEO:40.975667;-80.137681
X-APPLE-STRUCTURED-LOCATION;VALUE=URI;X-ADDRESS=205 Curry Rd.\, Slippery Ro
 ck\, Pennsylvania\, 16057\, United States;X-APPLE-RADIUS=100;X-TITLE=Penns
 ic at Coopers Lake Campground:geo:40.975667,-80.137681
END:VEVENT
BEGIN:VTIMEZONE
TZID:America/New_York
X-LIC-LOCATION:America/New_York
BEGIN:DAYLIGHT
DTSTART:20220313T030000
TZOFFSETFROM:-0500
TZOFFSETTO:-0400
TZNAME:EDT
END:DAYLIGHT
END:VTIMEZONE
END:VCALENDAR