BEGIN:VCALENDAR
VERSION:2.0
PRODID:-//wp-events-plugin.com//7.2.3.1//EN
TZID:America/New_York
X-WR-TIMEZONE:America/New_York
BEGIN:VEVENT
UID:0-29@aspiringknight.com
DTSTART;TZID=America/New_York:20250111T113000
DTEND;TZID=America/New_York:20250111T150000
DTSTAMP:20241230T210857Z
URL:https://aspiringknight.com/events/presentation-with-the-company-of-the
 -wolfe-argent-at-worcester-art-museum/
SUMMARY:Presentation with the Company of the Wolfe Argent at Worcester Art 
 Museum
DESCRIPTION:Brian will be presenting with the Company of the Wolfe Argent a
 t the Worcester Art Museum.\n\nPresentations are Sunday\, 11 January\,. 20
 25 at 11:30 AM and at 2:00 PM.\n\nFull information is available at the Wor
 cester Art Museum's official website. 
ATTACH;FMTTYPE=image/jpeg:https://aspiringknight.com/wp-content/uploads/si
 tes/4/700-wa_splash.jpg
CATEGORIES:Public Events,Wolfe Argent
LOCATION:Worcester Art Museum\, 55 Salisbury Street\, Worcester\, MA\, 0160
 9\, United States
GEO:42.273054;-71.802004
X-APPLE-STRUCTURED-LOCATION;VALUE=URI;X-ADDRESS=55 Salisbury Street\, Worce
 ster\, MA\, 01609\, United States;X-APPLE-RADIUS=100;X-TITLE=Worcester Art
  Museum:geo:42.273054,-71.802004
END:VEVENT
BEGIN:VTIMEZONE
TZID:America/New_York
X-LIC-LOCATION:America/New_York
BEGIN:STANDARD
DTSTART:20241103T010000
TZOFFSETFROM:-0400
TZOFFSETTO:-0500
TZNAME:EST
END:STANDARD
END:VTIMEZONE
END:VCALENDAR