BEGIN:VCALENDAR
VERSION:2.0
PRODID:-//wp-events-plugin.com//7.2.3.1//EN
TZID:America/New_York
X-WR-TIMEZONE:America/New_York
BEGIN:VEVENT
UID:0-8@aspiringknight.com
DTSTART;TZID=America/New_York;VALUE=DATE:20220702
DTEND;TZID=America/New_York;VALUE=DATE:20220704
DTSTAMP:20220616T183204Z
URL:https://aspiringknight.com/events/private-event/
SUMMARY:Private Event
DESCRIPTION:
CATEGORIES:Private Events
END:VEVENT
BEGIN:VTIMEZONE
TZID:America/New_York
X-LIC-LOCATION:America/New_York
BEGIN:DAYLIGHT
DTSTART:20220313T030000
TZOFFSETFROM:-0500
TZOFFSETTO:-0400
TZNAME:EDT
END:DAYLIGHT
END:VTIMEZONE
END:VCALENDAR