BEGIN:VCALENDAR
VERSION:2.0
PRODID:-//wp-events-plugin.com//7.2.3.1//EN
TZID:America/New_York
X-WR-TIMEZONE:America/New_York
BEGIN:VEVENT
UID:0-4@aspiringknight.com
DTSTART;TZID=America/New_York;VALUE=DATE:20220625
DTEND;TZID=America/New_York;VALUE=DATE:20220627
DTSTAMP:20220616T175400Z
URL:https://aspiringknight.com/events/vermont-renaissance-faire-2022/
SUMMARY:Vermont Renaissance Faire 2022
DESCRIPTION:Brian will be at the Vermont Renaissance Faire with the Brother
 hood of the Arrow and Sword. He may not be fighting as he will have just h
 ad major dental surgery on the previous Wednesday morning.\n\n&nbsp\;\n\nM
 ore information and tickets at https://www.vtgatherings.com/vtrennfaire.ht
 ml \n\n&nbsp\;\n\n
CATEGORIES:Public Events,Renaissance Faires
LOCATION:Vermont Renaissanve Faire\, 80 Weeks Hill Rd.\, Stowe\, Vermont\, 
 05672\, United States
GEO:44.474623;-72.689220
X-APPLE-STRUCTURED-LOCATION;VALUE=URI;X-ADDRESS=80 Weeks Hill Rd.\, Stowe\,
  Vermont\, 05672\, United States;X-APPLE-RADIUS=100;X-TITLE=Vermont Renais
 sanve Faire:geo:44.474623,-72.689220
END:VEVENT
BEGIN:VTIMEZONE
TZID:America/New_York
X-LIC-LOCATION:America/New_York
BEGIN:DAYLIGHT
DTSTART:20220313T030000
TZOFFSETFROM:-0500
TZOFFSETTO:-0400
TZNAME:EDT
END:DAYLIGHT
END:VTIMEZONE
END:VCALENDAR