BEGIN:VCALENDAR
VERSION:2.0
PRODID:-//wp-events-plugin.com//7.2.3.1//EN
TZID:America/New_York
X-WR-TIMEZONE:America/New_York
BEGIN:VEVENT
UID:0-28@aspiringknight.com
DTSTART;TZID=America/New_York;VALUE=DATE:20250201
DTEND;TZID=America/New_York;VALUE=DATE:20250203
DTSTAMP:20241230T210016Z
URL:https://aspiringknight.com/events/vermont-winter-renaissance-faire/
SUMMARY:Vermont Winter Renaissance Faire
DESCRIPTION:Brian will be presenting with the Brotherhood of the Arrow and 
 the Sword at the Vermont Winter Renaissance Faire.\n\nTickets and informat
 ion are available at the official website..
ATTACH;FMTTYPE=image/jpeg:https://aspiringknight.com/wp-content/uploads/si
 tes/4/469781888_1110553411074040_9076726090747497949_n.jpg
CATEGORIES:Brotherhood of the Arrow and Sword,Public Events,Renaissance
 Faires
LOCATION:Champlain Valley Exposition\, 105 Pearl St.\, Essex Junction\, VT\
 , 05452\, United States
GEO:44.496286;-73.121885
X-APPLE-STRUCTURED-LOCATION;VALUE=URI;X-ADDRESS=105 Pearl St.\, Essex Junct
 ion\, VT\, 05452\, United States;X-APPLE-RADIUS=100;X-TITLE=Champlain Vall
 ey Exposition:geo:44.496286,-73.121885
END:VEVENT
BEGIN:VTIMEZONE
TZID:America/New_York
X-LIC-LOCATION:America/New_York
BEGIN:STANDARD
DTSTART:20241103T010000
TZOFFSETFROM:-0400
TZOFFSETTO:-0500
TZNAME:EST
END:STANDARD
END:VTIMEZONE
END:VCALENDAR